BEGIN:VCALENDAR
VERSION:2.0
PRODID:-//GPA Midstream Appalachian Basin Chapter - ECPv6.15.20//NONSGML v1.0//EN
CALSCALE:GREGORIAN
METHOD:PUBLISH
X-WR-CALNAME:GPA Midstream Appalachian Basin Chapter
X-ORIGINAL-URL:http://abgpamidstream.org
X-WR-CALDESC:Events for GPA Midstream Appalachian Basin Chapter
REFRESH-INTERVAL;VALUE=DURATION:PT1H
X-Robots-Tag:noindex
X-PUBLISHED-TTL:PT1H
BEGIN:VTIMEZONE
TZID:UTC
BEGIN:STANDARD
TZOFFSETFROM:+0000
TZOFFSETTO:+0000
TZNAME:UTC
DTSTART:20240101T000000
END:STANDARD
END:VTIMEZONE
BEGIN:VEVENT
DTSTART;TZID=UTC:20251216T173000
DTEND;TZID=UTC:20251216T203000
DTSTAMP:20260423T225844
CREATED:20221228T041914Z
LAST-MODIFIED:20251203T230902Z
UID:1655-1765906200-1765917000@abgpamidstream.org
SUMMARY:2025 Apres Ski Holiday Party
DESCRIPTION:Après Ski Holiday Party Hosted By WEN\, APA and ABGPA\n\n\n\nStep into the warmth and charm of the season at the Après Ski Holiday Party\, an elegant celebration hosted by ABGPA Midstream\, WEN Greater Pittsburgh and the Appalachian Pipeliners Association. \n\n\n\nJoin us on Tuesday\, December 16\, 2025\, from 5:30 p.m. to 8:30 p.m. at The Spritzery in Pittsburgh for an evening of festive cheer\, fireside ambiance\, and community connection. Enjoy live music\, seasonal cocktails\, and raffles – all in support of a great cause. Each guest will receive appetizers\, two drink tickets and one raffle ticket with admission. \n\n\n\nThis event is open to both members and non-members. \n\n\n\nAttire: Après-ski chic encouragedPricing: Members $75\, Non-Members $150Where: The Spritzery\, 960 Penn Ave.\, Pittsburgh\, PA \n\n\n\nABGPA will be helping with medical expenses for an ABGPA founding member’s child. Learn more about this brain injury warrior’s incredible healing journey. \n\n\n\nWEN Greater Pittsburgh will be supporting Domestic Violence Services of Southwestern PA (DVSSP) with proceeds from this event. \n\n\n\n\n\n\n\n\n\n\n\n\n\n\n\nSponsorship Opportunities\n\n\n\nPresenting Sponsor: Premier recognition as presenting sponsor on all event materials; logo on event entrance signage; 4 complimentary tickets; recognition in promotional materials; opportunity to provide branded giveaway item; featured mention during program announcements; and reserved VIP lodge-inspired lounge seating for your guests. $5\,000 \n\n\n\nFireside Cigar Sponsor: Curated “Fireside Cigar” station with signage to hand out Cigars; opportunity to provide branded cigar cutters\, matches and lighters; 2 complimentary tickets; and use of logo in promotional materials. $3\,000 SOLD OUT \n\n\n\nPlatinum Ski Lodge Sponsor: Logo placement on bar signage – “Après Ski Bar sponsored by”; 3 complimentary tickets; recognition in promotional materials; and on-site signage recognition near the buffet. $2\,500  SOLD OUT \n\n\n\nSignature Cocktail Sponsor: Sponsorship of a themed specialty drink (e.g.\, “Hot Buttered Rum Run\,” “Frosty Spritz”); company name/logo featured on custom cocktail signage at bar; and 2 complimentary tickets. $1\,500 SOLD OUT  \n\n\n\nGold Chalet Sponsor: Logo placement at dessert station or hot cocoa/coffee bar; 2 complimentary tickets; and recognition in promotional materials. $1\,250 SOLD OUT \n\n\n\nSilver Ski Trail Sponsor: 2 complimentary tickets; and logo on wristbands provided to all registered guests. $1\,000 SOLD OUT \n\n\n\nBronze Lift Ticket Sponsor: 1 complimentary ticket; and logo on shared sponsor signage at entrance. $750 \n\n\n\nRaffle Prize Sponsor: DOES NOT INCLUDE ADMISSION TO EVENT; covers one of the $250+ giveaway items; and recognized during raffle drawing. $250 \n\n\n\n\n\n\n\n\n\nRegister Now \n\n\n\nMembers: Check your email for special member pricing or log in! \n\n\n\nABGPA Members: Log In for Special Pricing\n\n\n\nThis content is for members only.\n\n \n\n\n\nNon-member Pricing\n\n\n\n\n \n \n \n \n\n\n\n\nThank you to our sponsors\n\n\n\n\n\n \nCigar Sponsor \n \n\n \nPlatinum Ski Lodge Sponsor \n \n\n \nPlatinum Ski Lodge Sponsor \n \n\n \nSignature Cocktail Sponsor \n \n\n \nSignature Cocktail Sponsor \n \n\n \nSignature Cocktail Sponsor \n \n\n \nGold Chalet Sponsor \n \n\n \nGold Chalet Sponsor \n \n\n \nGold Chalet Sponsor \n \n\n \nSilver Ski Trail Sponsor \n \n\n \nSilver Ski Trail Sponsor \n \n\n \nSilver Ski Trail Sponsor \n \n\n \nBronze Lift Ticket Sponsor \n \n\n \nBronze Lift Ticket Sponsor \n \n\n \nBronze Lift Ticket Sponsor \n \n\n \nRaffle Prize Sponsor \n \n\n \nRaffle Prize Sponsor \n \n\n \nRaffle Prize Sponsor \n 
URL:http://abgpamidstream.org/calendar/holiday-mixer/
CATEGORIES:Socials & Mixers
ATTACH;FMTTYPE=image/webp:http://abgpamidstream.org/wp-content/uploads/dc968ccc-7159-4b0e-b7c9-07b14d9d470e.webp
END:VEVENT
END:VCALENDAR