BEGIN:VCALENDAR
VERSION:2.0
PRODID:-//GPA Midstream Appalachian Basin Chapter - ECPv6.15.20//NONSGML v1.0//EN
CALSCALE:GREGORIAN
METHOD:PUBLISH
X-WR-CALNAME:GPA Midstream Appalachian Basin Chapter
X-ORIGINAL-URL:https://abgpamidstream.org
X-WR-CALDESC:Events for GPA Midstream Appalachian Basin Chapter
REFRESH-INTERVAL;VALUE=DURATION:PT1H
X-Robots-Tag:noindex
X-PUBLISHED-TTL:PT1H
BEGIN:VTIMEZONE
TZID:UTC
BEGIN:STANDARD
TZOFFSETFROM:+0000
TZOFFSETTO:+0000
TZNAME:UTC
DTSTART:20240101T000000
END:STANDARD
END:VTIMEZONE
BEGIN:VEVENT
DTSTART;TZID=UTC:20250909T110000
DTEND;TZID=UTC:20250909T130000
DTSTAMP:20260424T114239
CREATED:20240109T043425Z
LAST-MODIFIED:20251218T181410Z
UID:2644-1757415600-1757422800@abgpamidstream.org
SUMMARY:2025 Luncheon 2: Quiet Compression
DESCRIPTION:Join us at 11 a.m. Sept. 9th at Bella Sera to hear a presentation from David M. Jones\, U.S. Manager – Acoustics & Vibration\, with SLR International Corporation on Quiet Compression: Noise Control Lessons for the Midstream Oil and Gas Industry.  \n\n\n\nNOTE: Our speaker is offering a continuing education certificate for all attendees. \n\n\n\nEarly-bird registration opens soon! \n\n\n\nSchedule\n\n\n\n\n11 a.m. – noon: Check-in\, networking\, lunch\n\n\n\nNoon – 1 p.m.: Announcements\, speaker introduction\, presentation\n\n\n\n\nRegistration\n\n\n\n\nEarly-bird member cost $45\n\n\n\nEarly-bird non-member cost $85\n\n\n\nGold corporate member operators cost $0 (RSVP REQUIRED)\n\n\n\nEarly-bird registration will end on August 19th at midnight.\n\n\n\nRegular registration member cost $55\n\n\n\nRegular non-member cost $95\n\n\n\nOnline registration will end September 5th at midnight.\n\n\n\n\n\n\n\n\n\n\nA Special Thanks to Our Food Sponsor\n\n\n\n\n\n\n\n\n\nSponsorships\n\n\n\n\nEvent Sponsorship\, $1\,500 (EXCLUSIVE): Includes 2 registrations\, signage\, table tents\, mention in promotional materials and an option for sponsor representatives to introduce themselves.\n\n\n\nFood Sponsorship\, $750: Includes 1 registration and signage at the event.\n\n\n\n\n\n\n\n\n\n\nAbout the Speaker\n\n\n\n\n\nDavid M. Jones is the U.S. Manager for Acoustics and Vibration for SLR International Corporation and is based in Houston\, Texas.  He leads a team of 21 acousticians across the US in providing a wide variety of acoustical services including noise and vibration measurement\, prediction\, and assessment for a broad range of clients.  \n\n\n\nDavid received a Bachelor of Science degree in mechanical engineering from Rice University in 1996 and began his career as a mechanical engineer for Brown & Root.  He shifted to acoustics when he joined HFP Acoustical Consultants in 1998.  HFP was acquired by SLR in 2014 and David was promoted to the manager of the US acoustics and vibration consulting team in 2019.  He has more than 25 years of experience in industrial noise control engineering with a focus on oil and gas projects\, including extensive work in predicting and measuring the noise impacts associated with natural gas compressor stations.  \n\n\n\nDavid has performed noise studies at more than 300 compressor stations over his career and has developed novel measurement techniques and noise mitigation designs for a wide range of compressor station noise issues.  He has published papers on solutions for tonal exhaust noise from Caterpillar 36 series engine exhausts\, predicting blasting noise from pipeline construction blasting\, and noise mitigation for horizontal directional drilling. \n\n\n\nDavid is a Board-Certified Member of the Institute of Noise Control Engineering (INCE) and a licensed professional engineer.  He serves as the finance chair for the board of the Council for Accreditation in Occupational Hearing Conservation (CAOHC). \n\n\n\n\n\n\n\n\n\nDavid M. Jones
URL:https://abgpamidstream.org/calendar/2025-luncheon-2/
CATEGORIES:Luncheons, Meetings & Conferences
ATTACH;FMTTYPE=image/jpeg:https://abgpamidstream.org/wp-content/uploads/ABGPA_Sept2025_Luncheon.jpg
END:VEVENT
BEGIN:VEVENT
DTSTART;TZID=UTC:20250826T090000
DTEND;TZID=UTC:20250826T160000
DTSTAMP:20260424T114239
CREATED:20240109T044319Z
LAST-MODIFIED:20250825T195118Z
UID:2654-1756198800-1756224000@abgpamidstream.org
SUMMARY:2025 “Fairway Feud” Golf Outing
DESCRIPTION:Join us Tuesday\, August 26th at Oglebay Resort in Wheeling\, W.Va.\, for this year’s ABGPA “Fairway Feud” Golf Outing. \n\n\n\nTeams and sponsors are invited to dress as their favorite college football team in honor of the upcoming weekend season opener.  \n\n\n\nREGISTRATION DEADLINE: Friday\, August 15th \n\n\n\nThere will be a Monday\, August 25th evening Happy Hour. Attendance is included in your team registration. Attendees will enjoy heavy apps and receive two free drink tickets to tip off this year’s golf outing! \n\n\n\nCourse\n\n\n\nThe course we are playing on is the Jones Course. Registration\, shotgun and lunch after will be at Speidel Golf Club. \n\n\n\nSPEIDEL GOLF CLUB:599 Golf Club DriveWheeling\, WV 26003 \n\n\n\nHappy Hour Location has Changed \n\n\n\nThe Monday night Happy Hour will be at Skyline Kitchen and Bar at Oglebay Resort. \n\n\n\n\n\n\n\n\n\n\n\n\n\n\n\n\n\nOnline Registration Now Open \n\n\n\n\n\nREGISTER\n\n\n\n\nMember Foursome – $800 SOLD OUT\n\n\n\nNon-member Foursome – $900  3 TEAMS HAVE JUS OPENED UP! \n\nTeam includes four golfers\, cart\, greens fees\, breakfast\, light lunch\, buffet at awards ceremony and Monday happy hour.\n\n\n\n\n\nIndividual Golfer – $225 SOLD OUT\n\nTo be placed on a team.\n\n\n\n\n\nHappy Hour (ONLY NON-GOLFERS) – $60\n\nIncludes heavy appetizers and two drink tickets.\n\n\n\n\n\n\n\n\n\n\nSPONSOR\n\n\n\n\nMonday Night Social Food Sponsor (Exclusive) – $2\,500\n\nIncludes (1) foursome including breakfast\, lunch and happy hour; host appetizer stations at the social on Monday Night; and logo included on signage and other promotional efforts.\n\n\n\n\n\nBreakfast Sponsor (Exclusive) – $1\,250\n\nIncludes 1 foursome including breakfast\, lunch and happy hour; logo included in promotional efforts.\n\n\n\n\n\nDinner Sponsor – $2\,500  SOLD OUT\n\nIncludes 1 foursome including breakfast\, lunch and happy hour; logo included in registration\, dinner and bar signage and other promotional efforts.\n\n\n\n\n\nBreak The Glass Sponsor (Exclusive) – $2\,000\n\nOn-course game sponsor including logo on glass and opportunity to engage with players; logo included in signage and other promotional efforts.\n\n\n\n\n\nLunch Sponsor (Exclusive) – $2\,000 SOLD OUT\n\nIncludes 1 foursome including breakfast\, lunch and happy hour; logo included on lunches\, signage and other promotional efforts.\n\n\n\n\n\nBar Sponsor – $1\,000\n\nHappy hour bar sponsor; logo on beverage napkins; and logo included in signage and other promotional efforts.\n\n\n\n\n\nDrink Cart Sponsor – $1\,500\n\nSponsor cart driven by Oglebay’s bartender; opportunity to follow car or set up tent on course; and logo included in signage and other promotional efforts.\n\n\n\n\n\nBloody Mary and Mimosa Bar Sponsor (Exclusive) – $1\,000 SOLD OUT\n\nHost bar from 7 a.m. to 9 a.m.; Oglebay provides and serves; and logo included in signage and other promotional efforts.\n\n\n\n\n\nBreakfast Cook Sponsor (Exclusive) – $750  SOLD OUT\n\nProvide food at start of breakfast from 7 a.m. to 9 a.m.; includes lunch and happy hour for two; tent\, food\, beverages and giveaways provided by sponsor; and logo included in signage and other promotional efforts.\n\n\n\n\n\nTent Sponsor – $750\n\nOpportunity to set up tent on course; includes lunch and dinner for two; and logo included on prize\, table\, signage and other promotional efforts.\n\n\n\n\n\nSkill Prize Sponsor – $500\n\nSponsor for skill activities; and logo included in signage and other promotional efforts.\n\n\n\n\n\nRaffle Prize Sponsor – $250\n\nPrize will be bought by the ABGPA; and logo included on prize\, table\, signage and other promotional efforts.\n\n\n\n\n\nTent Sponsor – $750\n\nOpportunity to set up tent on course; includes lunch and dinner for two; and logo included on prize\, table\, signage and other promotional efforts.\n\n\n\n\n\nBar Sponsor – $1\,000\n\nHappy hour bar sponsor; logo on beverage napkins; and logo included in signage and other promotional efforts.\n\n\n\n\n\nMonday Night Social Bar Sponsor – $500\n\nBar sponsor at social on Monday Night; and logo included on napkins\, signage and other promotional efforts.\n\n\n\n\n\nHole Sign – $150\n\nLogo included in promotional efforts.\n\n\n\n\n\n\n\n\n\n\n\n\nThank You to Our Sponsors\n\n\n\n\n\n \nDinner Sponsor \n\n \nDinner Sponsor \n\n \nLunch Sponsor \n\n \nBar Sponsor \n\n \nDrink Cart Sponsor \n\n \nBloody Mary and Mimosa Bar Sponsor \n\n \nTent Sponsor \n\n \nTent Sponsor \n\n \nTent Sponsor \n\n \nTent Sponsor \n\n \nTent Sponsor \n\n \nTent Sponsor \n\n \nTent Sponsor \n\n \nBreakfast Sponsor \n\n \nSkill Prize Sponsor \n\n \nMonday Night Social Bar Sponsor \n\n \nMonday Night Social Bar Sponsor \n\n \nRaffle Prize Sponsor \n\n \nHole Sign Sponsor \n\n \nHole Sign Sponsor \n\n \nHole Sign Sponsor \n\n \nHole Sign Sponsor \n\n \nHole Sign Sponsor \n\n \nHole Sign Sponsor \n\n\n\n\n\n\n\n\n\n\n\nRegister Now\n\n\n\nMembers: Check your email for special member pricing or log in! \n\n\n\nABGPA Members: Log In for Special Pricing\n\n\n\nThis content is for members only.\n\n \n\n\n\nNon-member Pricing
URL:https://abgpamidstream.org/calendar/2025-golf-tournament/
CATEGORIES:Fundraising Events
ATTACH;FMTTYPE=image/jpeg:https://abgpamidstream.org/wp-content/uploads/2025Golf.jpg
END:VEVENT
BEGIN:VEVENT
DTSTART;TZID=UTC:20250430T080000
DTEND;TZID=UTC:20250430T170000
DTSTAMP:20260424T114239
CREATED:20240109T044203Z
LAST-MODIFIED:20250604T140746Z
UID:2652-1746000000-1746032400@abgpamidstream.org
SUMMARY:2025 Appalachian Regional Conference
DESCRIPTION:Introducing … This Year’s Keynote Speakers\n\n\n\n\n\n\n\n\n\nLunch Keynote\n\n\n\nDan QuiggleLeadership SpeakerThe Quiggle Group \n\n\n\n\n\n\n\n\n\nClosing Keynote\n\n\n\nToby RicePresident & CEOEQT \n\n\n\n\n\n\n\n\n\nExecutive Roundtable (immediately after opening remarks)\n\n\n\n\n\n\n\n\n\nSarah Miller GPA PresidentModerator \n\n\n\n\n\n\n\n\n\nPat RudyVP Engineering & Technical Services G&PMPLX \n\n\n\n\n\n\n\n\n\nNavneet BehlChief Operating OfficerCNX \n\n\n\n\n\n\n\n\n\nGarrett MehlVPDT Midstream \n\n\n\n\n\n\n\n\n\nTim DuganCEOOlympus Energy \n\n\n\n\n\n\n\n\n\n\n\nRegistration Costs: Price of registration includes full-day access\, sit-down lunch\, closing Happy Hour  and professional headshots by Chad Isaiah. \n\n\n\n*Continuing Education credits will be offered for select sessions. \n\n\n\n\nEarly-bird registration (Members) $225 **CLOSES APRIL 9th**\n\n\n\nEarly-bird registration (Non-members) $275 **CLOSES APRIL 9th**\n\n\n\nGeneral registration (Member) $275 **CLOSES APRIL 25th**\n\n\n\nGeneral registration (Non-member) $325 **CLOSES APRIL 25th**\n\n\n\n **SPONSORSHIP DEADLINE IS APRIL 16th**\n\n\n\n\nKey Speakers\n\n\n\n\nAdditional Speaker Sessions:\n\nBidell Gas Compression: Pre-engineered compressor packages that address the requirements on methane emissions from regulatory bodies.\n\n\n\nEvergreen Compliance\, Erin McKay “The Compliance Lady”: Discussion on the importance of readily accessible industry data\, resources\, and expertise to enhance pipeline safety and reduce risk.\n\n\n\nSTATS\, Samantha Parente: Discussion on Hot Tapping & Plugging Technology with a 6’’ BISEP Tool demo.\n\n\n\nValve 48\, Josh Hutterer & Bill Sudell: Valve Automation Discussion & Demo.\n\n\n\n\n\n\n\n\n\n\nSponsorships\n\n\n\nNaming Sponsor (Exclusive) $6\,000 SOLD OUT \n\n\n\n\nDedicated social media posts.\n\n\n\nRecognized during event announcements.\n\n\n\nIncludes 4 entry tickets to the conference.\n\n\n\nIncludes logo ’ed lanyards for name tags.\n\n\n\nOption to take part in opening remarks.\n\n\n\nRecognized as Naming Sponsor on website and in all email communication.\n\n\n\nDedicated signage is prominently displayed throughout the conference\, including on all monitors and tables.\n\n\n\n\nHappy Hour Sponsor (1 Exclusive) $3\,000 SOLD OUT \n\n\n\n\nIncludes 2 entry tickets to the conference.\n\n\n\nRecognized during event announcements.\n\n\n\nIncludes logo on cocktail napkins.\n\n\n\nSignage prominently displayed during the conference and dedicated signage during happy hour.\n\n\n\n\nLunch Sponsor (2 Available) $1500 \n\n\n\n\nIncludes 1 entry ticket to the conference.\n\n\n\nRecognized during event announcements.\n\n\n\nOption for one company to purchase both sponsorships and be recognized as the sole Lunch Sponsor for the conference.\n\n\n\nSignage prominently displayed during conference and dedicated signage during lunch.\n\n\n\n\nExhibitor Sponsor 10×10 Space (3 Available) $1500  SOLD OUT \n\n\n\n\nIncludes 2 entry tickets to the conference.\n\n\n\nRecognized during event announcements.\n\n\n\nIncludes 36” high top table or 6′ table with two chairs.\n\n\n\nIncludes 1 dedicated 10×10 exhibitor space during duration of the conference.\n\n\n\n\nExhibitor Sponsor 10×5 Space (3 Available) $1000 SOLD OUT \n\n\n\n• Includes 1 entry ticket to the conference.• Recognized during event announcements.• Includes a 36” high top table or 6′ table with two chairs.• Includes 1 dedicated 10×5 exhibitor space during duration of the conference. \n\n\n\nExhibitor Sponsor 5×5 Space (4 Available) $500 SOLD OUT \n\n\n\n\nIncludes 1 entry ticket to the conference.\n\n\n\nRecognized during event announcements.\n\n\n\nIncludes a 36” high top table with two chairs.\n\n\n\nIncludes 1 dedicated 5×5 exhibitor space during duration of the conference.\n\n\n\n\n*Note: Any large equipment will need to be discussed with the venue. Any additional costs related to freight handling will be passed through. Electric service is included. \n\n\n\nCoffee Break Sponsors (15 Available) $200 \n\n\n\n\nCompany logo included on conference Coffee Break Signage throughout the event.\n\n\n\nRecognized during event announcements.\n\n\n\n\n\n\nThank You to Our Sponsor\n\n\n\n\n\n \nNaming Sponsor \n\n \nHappy Hour Sponsor \n\n \nLunch Sponsor \n\n \nLunch Sponsor \n\n \nExhibitor Sponsor \n\n \nExhibitor Sponsor \n\n \nExhibitor Sponsor \n\n \nExhibitor Sponsor \n\n \nExhibitor Sponsor \n\n \nExhibitor Sponsor \n\n \nExhibitor Sponsor \n\n \nExhibitor Sponsor \n\n \nExhibitor Sponsor \n\n \nExhibitor Sponsor \n\n \nCoffee Break Sponsor \n\n \nCoffee Break Sponsor \n\n \nCoffee Break Sponsor \n\n \nCoffee Break Sponsor \n\n \nCoffee Break Sponsor \n\n \nCoffee Break Sponsor \n\n \nCoffee Break Sponsor \n\n \nCoffee Break Sponsor \n\n \nCoffee Break Sponsor \n\n \nCoffee Break Sponsor \n\n \nCoffee Break Sponsor \n\n \nCoffee Break Sponsor \n\n\n\n\n\n\n\n\n\n\n\nRegister Now\n\n\n\nMembers: Check your email for special member pricing or log in! \n\n\n\nGold Corporate Members: Log In for Special Pricing\n\n\n\nThis content is for members only.\n\n\n\nABGPA Members: Log In for Special Pricing\n\n\n\nThis content is for members only. \n\n\n\nNon-member Pricing
URL:https://abgpamidstream.org/calendar/2025abgpa-appalachian-regional-conference/
CATEGORIES:Luncheons, Meetings & Conferences
ATTACH;FMTTYPE=image/jpeg:https://abgpamidstream.org/wp-content/uploads/ARC25.jpg
END:VEVENT
BEGIN:VEVENT
DTSTART;TZID=UTC:20250319T180000
DTEND;TZID=UTC:20250319T210000
DTSTAMP:20260424T114239
CREATED:20241210T195251Z
LAST-MODIFIED:20250214T220944Z
UID:2648-1742407200-1742418000@abgpamidstream.org
SUMMARY:The Great Gathering 2025
DESCRIPTION:Join us for The Great Gathering XI from 6 p.m. to 9 p.m. Wednesday\, March 19th at the Hilton Garden Inn Southpointe (1000 Corporate Drive\, Canonsburg\, PA 15317)\, for the largest business networking reception in Western PA. Join the Pittsburgh Business Exchange (PBEX)\, PA Chamber of Business and Industry\, and 38+ other powerhouse organizations as we join forces for this energy-themed collaboration.  \n\n\n\nLearn more: www.GreatEnergyGathering.com. \n\n\n\n\n\n\n\n\n\n\n\n\n\n\n\nSpecial ABGPA Member Pricing\n\n\n\nABGPA members get a discount! \n\n\n\nTo register to attend\, click here and scroll down to the GPA Midstream Association Members ticket.
URL:https://abgpamidstream.org/calendar/2025-great-gathering/
CATEGORIES:Socials & Mixers
END:VEVENT
BEGIN:VEVENT
DTSTART;TZID=UTC:20250211T110000
DTEND;TZID=UTC:20250211T130000
DTSTAMP:20260424T114239
CREATED:20240109T044925Z
LAST-MODIFIED:20250724T051702Z
UID:2662-1739271600-1739278800@abgpamidstream.org
SUMMARY:Luncheon 1: 2025 Outlook
DESCRIPTION:Join us Tuesday\, February 11th at Bella Serra in Canonsburg\, Pa.\, to hear Jim Welty\, president of the Marcellus Shale Coalition (MSC)\, share a 2025 Outlook. \n\n\n\n\n\n\n\n\n\n\n\n\n\nSchedule \n\n\n\n\n11 a.m. – noon: Check-in\, networking\, lunch\n\n\n\nNoon – 1 p.m.: Announcements\, speaker introduction\, presentation\n\n\n\n\nRegistration \n\n\n\n\nEarly-bird member cost $45\n\n\n\nEarly-bird non-member cost $85\n\n\n\nEarly-bird registration will end on Monday\, February 3rd at midnight.\n\n\n\nRegular registration member cost $55\n\n\n\nRegular non-member cost $95\n\n\n\nOnline registration will end February 10th at midnight.\n\n\n\n\nSponsorships \n\n\n\n\nEvent Sponsorship\, $1\,500: Includes 2 registrations\, signage\, table tents\, mention in promotional materials and an option for sponsor representatives to introduce themselves.\n\n\n\nFood Sponsorship\, $750: Includes 1 registration and signage at the event.\n\n\n\n\n\n\n\n\n\n\n\n\n\n\nAbout the Speaker\n\n\n\n\n\nIn January of 2025\, Jim Welty assumed the role of president of the Marcellus Shale Coalition (MSC)\, the leading trade association for entities engaged in all aspects of unconventional shale development in Pennsylvania\, including exploration and production\, midstream gathering\, processing and transportation\, as well as the suppliers\, contractors and building trade unions that work with the industry. \n\n\n\nAs president\, Jim oversees the day-to-day operations of the MSC\, serves as its chief spokesperson\, and engages with stakeholders interested in the safe\, efficient development of our shale resources.  Jim joined the MSC in May of 2013 as vice president of government affairs\, where he was responsible for the legislative and regulatory activities\, oversight of the organization’s committee structure\, and grassroots engagement. \n\n\n\nBefore joining the MSC\, Jim represented several exploration and production companies in the nascent days of the Marcellus shale boom as a government relations professional with Buchannan Ingersol & Rooney and K&L Gates.  Prior to that\, he served as corporate secretary and vice president of legislative and corporate affairs at the Pennsylvania Chamber of Business and Industry. Jim also served as Pennsylvania State Director for the National Federation of Independent Business (NFIB) and served as Director\, Legislative Affairs for the Pennsylvania Bankers Association. \n\n\n\nJim is a graduate of Westminster College in New Wilmington\, PA and Widener University School of Law in Harrisburg\, PA.  He is a lifelong resident of Pennsylvania and lives with his wife\, two sons\, and Labrador retriever in Boiling Springs. \n\n\n\n\n\n\n\n\n\n\n\n\n\n\n\nRegister Now \n\n\n\nMembers: Check your email for special member pricing or log in! \n\n\n\nGold Corporate Members: Log In for Special Pricing\n\n\n\nThis content is for members only.\n\n\n\nABGPA Members: Log In for Special Pricing\n\n\n\nThis content is for members only. \n\n\n\nNon-member Pricing
URL:https://abgpamidstream.org/calendar/2025-q1-luncheon/
LOCATION:Bella Sera\, 414 Morganza Rd\, Canonsburg\, PA\, 15317\, United States
CATEGORIES:Luncheons, Meetings & Conferences
ATTACH;FMTTYPE=image/jpeg:https://abgpamidstream.org/wp-content/uploads/q1luncheonsponsor.jpg
END:VEVENT
BEGIN:VEVENT
DTSTART;TZID=UTC:20250114T170000
DTEND;TZID=UTC:20250114T210000
DTSTAMP:20260424T114239
CREATED:20231220T001754Z
LAST-MODIFIED:20250114T181923Z
UID:2602-1736874000-1736888400@abgpamidstream.org
SUMMARY:2025 ABGPA Meet the Board
DESCRIPTION:ABGPA invites you to meet the board at 5 p.m. January 14th at PPG Paints Arena – Ford Lounge. Join us for a Meet the Board Happy Hour including networking\, food\, drinks and door prizes. And\, plan to stay for the game starting at 7 p.m. to see the Pittsburgh Penguins vs. Seattle Kraken. Get your tickets early as no walk-ins will be allowed for this event! \n\n\n\n\n\n\n\n\n\nSchedule\n\n\n\n\n5 p.m. to 6:30 p.m. EARLY ACCESS TO ARENA for ABGPA Happy Hour including networking\, food\, drinks & door prizes. \n\n\n\n7 p.m. Game starts – Pittsburgh Penguins vs. Seattle Kraken\n\n\n\n\nTickets\n\n\n\n\nMember Ticket ($60) – Special member appreciation price (applies to member and any guests registered at the same time). Includes lower bowl seating\, 2 drink tickets\, appetizers & early access to arena for happy hour.\n\n\n\nNon-member Ticket ($120) – Includes lower bowl seating\, 2 drink tickets\, appetizers & early access to arena for happy hour.\n\n\n\n\n\n\n\n\n\n\nSponsorship\n\n\n\n\nHat Trick Sponsor (Exclusive) $4000: 4 tickets upgraded to club level\, signed puck\, primary signage in event area/on bar\, recognition during event announcements\, dedicated social media posts and raffle prize awarded in company name.\n\n\n\nZamboni Sponsor $2000: 2 regular lower bowl tickets\, signage at event\, recognition during event announcements and raffle prize awarded in company name.\n\n\n\nIcing Sponsor $1000: 1 regular lower bowl ticket\, event napkins with company logo\, included in event signage and recognition  during event announcements.\n\n\n\nGlove Save Sponsor $500: Signage at event and recognition during event announcements.\n\n\n\nRaffle Prize Sponsor $100: Raffle prize awarded in company name.\n\n\n\n\nAll sponsors (not including door prize/raffle sponsors) will be included in website and social media promotions. \n\n\n\n\n\nRegister Now \n\n\n\nMembers: Check your email for special member pricing … or log in \n\n\n\n\n \n \n \n \n\n\n\n\nThank You to These Sponsor\n\n\n\n\n\n \nIcing Sponsor \n \n\n \nIcing Sponsor \n \n\n \nIcing Sponsor \n \n\n \nGlove Save Sponsor \n \n\n \nGlove Save Sponsor \n \n\n \nRaffle Prize Sponsor \n \n\n \nRaffle Prize Sponsor \n 
URL:https://abgpamidstream.org/calendar/2025-abgpa-meet-the-board/
LOCATION:PPG Paints Arena\, 1001 Fifth Ave.\, Pittsburgh\, Pennsylvania\, 15219\, United States
CATEGORIES:Membership Events,Socials & Mixers
ATTACH;FMTTYPE=image/jpeg:https://abgpamidstream.org/wp-content/uploads/THE-BOARD.jpg
END:VEVENT
END:VCALENDAR