BEGIN:VCALENDAR
VERSION:2.0
PRODID:-//GPA Midstream Appalachian Basin Chapter - ECPv6.15.20//NONSGML v1.0//EN
CALSCALE:GREGORIAN
METHOD:PUBLISH
X-WR-CALNAME:GPA Midstream Appalachian Basin Chapter
X-ORIGINAL-URL:https://abgpamidstream.org
X-WR-CALDESC:Events for GPA Midstream Appalachian Basin Chapter
REFRESH-INTERVAL;VALUE=DURATION:PT1H
X-Robots-Tag:noindex
X-PUBLISHED-TTL:PT1H
BEGIN:VTIMEZONE
TZID:UTC
BEGIN:STANDARD
TZOFFSETFROM:+0000
TZOFFSETTO:+0000
TZNAME:UTC
DTSTART:20250101T000000
END:STANDARD
END:VTIMEZONE
BEGIN:VEVENT
DTSTART;TZID=UTC:20260820T073000
DTEND;TZID=UTC:20260820T170000
DTSTAMP:20260423T192252
CREATED:20260409T060732Z
LAST-MODIFIED:20260423T154329Z
UID:4240-1787211000-1787245200@abgpamidstream.org
SUMMARY:ABGPA & APA Appalachian Outlaw Classic
DESCRIPTION:Round Up Your Team: Register Now!\n\n\n\n\n\nJoin us August 19th and 20th at Oglebay Resort in Wheeling\, W.Va.\, for this year’s ABGPA & APA Appalachian Outlaw Classic. \n\n\n\nThis is going to be the biggest golf event in the midstream space all year! Two associations\, two courses! \n\n\n\nAgenda\n\n\n\nAugust 19th5 p.m. to 8 p.m. Kick-off Happy Hour  \n\n\n\nAugust 20th7:30 a.m. Registration & Breakfast 9 a.m. Shotgun Start 3 p.m. Lunch & Awards \n\n\n\n\nDownload Event Flyer & Share\n\n\n\n\n\n\n\n\n\n\n\n\n\n\n\n\n\n\nOnline Registration Now Open! \n\n\n\n\n\nENTER YOUR TEAM\n\n\n\nEnter your team of four golfers for $1\,000 and take part in this year’s bigger-than-ever Outlaw Classic golf outing. Registration opens soon. \n\n\n\nNo walk-up allowed! \n\n\n\n\n\n\n\nSPONSORSHIP OPPORTUNITIES\n\n\n\nCowboy Naming Sponsor | $10\,000 (EXCLUSIVE) \n\n\n\n\nIncludes (2) Foursomes\n\n\n\n(1) Tent Spot on Premium Hole\n\n\n\nOpportunity to set up a table near registration\n\n\n\nOpportunity to speak at dinner\n\n\n\nLogo on Cowboy Hats given to all attendees\n\n\n\nIncludes Breakfast\, Lunch and Dinner for all members\n\n\n\n(8) Tickets to Welcome Party\n\n\n\nLogo on all signage throughout event\, social media posts and email marketing\n\n\n\nLarge Banner with company logo at registration\n\n\n\n\n \n\n\n\nBuckaroo Sponsor | $5\,000 (EXCLUSIVE) \n\n\n\n\n(1) foursome\n\n\n\n(1) tent spot on Premium hole\n\n\n\nIncludes Welcome Party Tickets\, Breakfast\, Lunch and Dinner for all members\n\n\n\nLogo on all signage throughout event\, social media posts and email marketing \n\n\n\n\n \n\n\n\n“Outlaw Boss” Sponsor $4\,000 – Premiere Welcome Party Sponsor (EXCLUSIVE) \n\n\n\n\n(1) foursome\n\n\n\nIncludes Welcome Party Tickets\, Breakfast\, Lunch and Dinner for all members\n\n\n\nLogo on all signage throughout event\, social media posts and email marketing\n\n\n\nLogo on beverage napkins\n\n\n\nOpportunity to speak at the party\n\n\n\nOpportunity to have a table at the party with marketing material\, swag\, etc.\n\n\n\n\n \n\n\n\n“Cookout” Sponsor — Dinner | $3\,000 (2 Available) \n\n\n\n\n(1) foursome\n\n\n\nIncludes Welcome Party Tickets\, Breakfast\, Lunch and Dinner for all members\n\n\n\nLogo on all signage throughout event\, social media posts and email marketing\n\n\n\nOpportunity to lay out marketing material on tables during dinner/awards following golf\n\n\n\n\n \n\n\n\n“High Noon” Sponsor — Lunch Sponsor | $2\,500 (EXCLUSIVE) \n\n\n\n\n(1) foursome\n\n\n\nLogo on Chick Fil-A Sandwiches\n\n\n\nIncludes Welcome Party Tickets\, Breakfast\, Lunch and Dinner for all members\n\n\n\nLogo on all signage throughout event\, social media posts and email marketing\n\n\n\n\n \n\n\n\n“Saddlebag” Sponsor — Drink Cart Sponsor | $2\,000 | (6) Available \n\n\n\n\n(1) Ticket for the event – opportunity to ride around with Board Member passing out snacks and drinks during golf to network\n\n\n\nLogo on beverage carts\n\n\n\nLogo on all signage throughout event\, social media posts and email marketing\n\n\n\n\n \n\n\n\n “Ranch Hand” Sponsor | $2\,000 (EXCLUSIVE) \n\n\n\n\nTickets for 2 people to attend and network\n\n\n\nSponsor the game on the course (Game & material provided by ABGPA/APA)\n\n\n\nTent spot on the course\n\n\n\n\n \n\n\n\n “Canteen” Sponsor — Breakfast | $1\,500 (EXCLUSIVE) \n\n\n\n\n(1) Ticket for the Welcome Party Tickets\, Breakfast\, Lunch and Dinner to attend and network\n\n\n\nOpportunity to set up table next to breakfast\n\n\n\nLogo on all signage throughout event\, social media posts and email marketing\n\n\n\n\n \n\n\n\n“Watering Hole” Sponsor | $1\,500 (3 Available) \n\n\n\n\n(1) Ticket for the Welcome Party & Golf Outing to attend and network\n\n\n\nOpportunity to set up marketing material at the bar before\, during and after golf\n\n\n\nLogo on all signage throughout event\, social media posts and email marketing\n\n\n\n\n \n\n\n\n“Campfire” Sponsor – Snack Sponsor $1\,500 | (2) Available \n\n\n\n\n(1) Ticket for the event to attend and network and the opportunity to ride around with Board Member passing out snacks during golfing\n\n\n\nLogo on snack carts\n\n\n\nLogo on all signage throughout event\, social media posts and email marketing\n\n\n\n\n \n\n\n\n“Chuck Wagon” Sponsor – Part of the Welcome Party Sponsorship – Food Sponsor – $1\,500 | (2) Available \n\n\n\n\n(2) tickets to Welcome Party Tickets\, Breakfast\, Lunch and Dinner to attend and network\n\n\n\nLogo on all signage throughout event\, social media posts and email marketing\n\n\n\n\n \n\n\n\n“Ranch Hand Helper” Sponsor — Tent Sponsor | $1\,000 \n\n\n\n\nNote: All alcohol must be purchased through Oglebay\n\n\n\n\n \n\n\n\n“Whiskey Barrel” Sponsor – Bar Sponsor for Welcome Party | $500 – (4) Available \n\n\n\n\nLogo on all signage throughout event\, social media posts and email marketing\n\n\n\n\n \n\n\n\n“Skill Prize” Sponsor | $500 (4 Available) \n\n\n\n\nSponsor the prizes for the skill games on the course\n\n\n\nLogo on all signage throughout event\, social media posts and email marketing \n\n\n\n\n\n\n\n\n\n\nRegister Now
URL:https://abgpamidstream.org/calendar/abgpa-apa-appalachian-outlaw-classic/
CATEGORIES:Fundraising Events
ATTACH;FMTTYPE=image/jpeg:https://abgpamidstream.org/wp-content/uploads/outlawclassic_Page_1-scaled-e1775759311795.jpg
END:VEVENT
END:VCALENDAR