BEGIN:VCALENDAR
VERSION:2.0
PRODID:-//GPA Midstream Appalachian Basin Chapter - ECPv6.15.20//NONSGML v1.0//EN
CALSCALE:GREGORIAN
METHOD:PUBLISH
X-WR-CALNAME:GPA Midstream Appalachian Basin Chapter
X-ORIGINAL-URL:https://abgpamidstream.org
X-WR-CALDESC:Events for GPA Midstream Appalachian Basin Chapter
REFRESH-INTERVAL;VALUE=DURATION:PT1H
X-Robots-Tag:noindex
X-PUBLISHED-TTL:PT1H
BEGIN:VTIMEZONE
TZID:UTC
BEGIN:STANDARD
TZOFFSETFROM:+0000
TZOFFSETTO:+0000
TZNAME:UTC
DTSTART:20250101T000000
END:STANDARD
END:VTIMEZONE
BEGIN:VEVENT
DTSTART;TZID=UTC:20260115T170000
DTEND;TZID=UTC:20260115T170000
DTSTAMP:20260423T210348
CREATED:20251215T174433Z
LAST-MODIFIED:20260106T130128Z
UID:3924-1768496400-1768496400@abgpamidstream.org
SUMMARY:2026 Meet the Board Event
DESCRIPTION:ABGPA invites you to meet the board at 5 p.m. January 15th at PPG Paints Arena – Coors Light Igloo Club. Join us for a Meet the Board Happy Hour including networking\, food\, drinks and door prizes. And\, plan to stay for the game starting at 7 p.m. to see the Pittsburgh Penguins vs. Philadelphia Flyers. \n\n\n\n Sign up or renew your membership for 2026 today and save on your ticket! \n\n\n\n\n\n\n\n\n\nSchedule\n\n\n\n\n5 p.m. to 6:30 p.m. EARLY ACCESS TO ARENA for ABGPA Happy Hour including networking\, food\, drinks and door prizes.\n\n\n\n7 p.m. Game starts – Pittsburgh Penguins vs. Philadelphia Flyers\n\n\n\n\nTickets\n\n\n\n\nMember Ticket ($60) – Special member appreciation price (applies to member and any guests registered at the same time). Includes regular ticket with the group\, 2 drink tickets\, appetizers and early access to arena for happy hour.\n\n\n\nNon-member Ticket ($120) – Includes regular ticket with the group\, 2 drink tickets\, appetizers and early access to arena for happy hour.\n\n\n\n\n\n\n\n\n\n\nSponsorship\n\n\n\n\nHat Trick Sponsor (Exclusive) $4000: 4 tickets upgraded to club level\, signed puck\, primary signage in event area/on bar\, recognition during event announcements\, dedicated social media posts and raffle prize awarded in company name. Logo listed on website.\n\n\n\nZamboni Sponsor $2000: 2 regular tickets with the group\, signage at event including on bar signage\, recognition during event announcements and raffle prize awarded in company name. Logo listed on website.\n\n\n\nIcing Sponsor $1000: 1 regular ticket with group\, event menus with company logo\, included in event signage and recognition during event announcements. Logo listed on website.\n\n\n\nGlove Save Sponsor $500: Signage at event and recognition during event announcements. Logo listed on website. No event ticket included.\n\n\n\nRaffle Prize Sponsor $100: Raffle prize awarded in company name.\n\n\n\n\nAll sponsors (not including door prize/raffle sponsors) will be included in website and social media promotions. \n\n\n\n\n\nThank You to These Sponsors\n\n\n\n\n\n \nIcing Sponsor \n \n\n \nIcing Sponsor \n \n\n \nIcing Sponsor \n \n\n \nGlove Save Sponsor \n \n\n \nGlove Save Sponsor \n \n\n \nRaffle Prize Sponsor \n \n\n \nRaffle Prize Sponsor \n \n\n\n\n\n\n\n\n\n\n\n\nRegister Now \n\n\n\nMembers: Check your email for special member pricing or log in! \n\n\n\nABGPA Members: Log In for Special Pricing\n\n\n\nThis content is for members only.\n\n \n\n\n\nNon-member Pricing
URL:https://abgpamidstream.org/calendar/2026-meet-the-board-event/
CATEGORIES:Membership Events
ATTACH;FMTTYPE=image/png:https://abgpamidstream.org/wp-content/uploads/R2ABGPAMeetBoard.png
END:VEVENT
END:VCALENDAR